BEGIN:VCALENDAR
VERSION:2.0
PRODID:https://www.kufer.de/kuferweb / DE
METHOD:PUBLISH
CALSCALE:GREGORIAN
X-WR-TIMEZONE:Europe/Berlin
BEGIN:VTIMEZONE
TZID:Europe/Berlin
X-LIC-LOCATION:Europe/Berlin
BEGIN:DAYLIGHT
TZOFFSETFROM:+0100
TZOFFSETTO:+0200
TZNAME:CEST
DTSTART:19700329T020000
RRULE:FREQ=YEARLY;INTERVAL=1;BYDAY=-1SU;BYMONTH=3
END:DAYLIGHT
BEGIN:STANDARD
TZOFFSETFROM:+0200
TZOFFSETTO:+0100
TZNAME:CET
DTSTART:19701025T030000
RRULE:FREQ=YEARLY;INTERVAL=1;BYDAY=-1SU;BYMONTH=10
END:STANDARD
END:VTIMEZONE
BEGIN:VEVENT
DTSTAMP:20260421T061806
DTSTART;TZID=Europe/Berlin:20261110T093000
DTEND;TZID=Europe/Berlin:20261110T180000
UID:26KSA-H012-20261110T093000@STUTTGART ELK
SUMMARY:"Du bist ein Gott, der mich sieht" Seelsorgliche Begleitung und theologische Perspektiven beim Coming out in späteren Lebensphasen - Kooperation mit den Evangelischen Kirchen in Baden und der Pfalz (26KSA-H012) 
LOCATION:Pforzheim, Hohenwart-Forum, Schönbornstr. 25, Schönbornstr. 25, 75181 Pforzheim
END:VEVENT
BEGIN:VEVENT
DTSTAMP:20260421T061806
DTSTART;TZID=Europe/Berlin:20261111T093000
DTEND;TZID=Europe/Berlin:20261111T180000
UID:26KSA-H012-20261111T093000@STUTTGART ELK
SUMMARY:"Du bist ein Gott, der mich sieht" Seelsorgliche Begleitung und theologische Perspektiven beim Coming out in späteren Lebensphasen - Kooperation mit den Evangelischen Kirchen in Baden und der Pfalz (26KSA-H012) 
LOCATION:Pforzheim, Hohenwart-Forum, Schönbornstr. 25, Schönbornstr. 25, 75181 Pforzheim
END:VEVENT
BEGIN:VEVENT
DTSTAMP:20260421T061806
DTSTART;TZID=Europe/Berlin:20261112T093000
DTEND;TZID=Europe/Berlin:20261112T180000
UID:26KSA-H012-20261112T093000@STUTTGART ELK
SUMMARY:"Du bist ein Gott, der mich sieht" Seelsorgliche Begleitung und theologische Perspektiven beim Coming out in späteren Lebensphasen - Kooperation mit den Evangelischen Kirchen in Baden und der Pfalz (26KSA-H012) 
LOCATION:Pforzheim, Hohenwart-Forum, Schönbornstr. 25, Schönbornstr. 25, 75181 Pforzheim
END:VEVENT
END:VCALENDAR